BEGIN:VCALENDAR

VERSION:2.0

PRODID:-//hacksw/handcal//NONSGML v1.0//EN

BEGIN:VEVENT

UID:de6002aafc518662d783e5b90f26e485

DTSTAMP:20260421T153007Z

DTSTART:20260425T111500

DTEND:20260425T114500

SUMMARY:L29094758 - 14 Fourth Avenue, WEST MOONAH TAS 7009

LOCATION:14 Fourth Avenue, WEST MOONAH TAS 7009

END:VEVENT

END:VCALENDAR