BEGIN:VCALENDAR

VERSION:2.0

PRODID:-//hacksw/handcal//NONSGML v1.0//EN

BEGIN:VEVENT

UID:c29b90d9e68facde608d322c8723da90

DTSTAMP:20260421T153808Z

DTSTART:20260425T130000

DTEND:20260425T133000

SUMMARY:L40281858 - 5/35A Barossa Road, GLENORCHY TAS 7010

LOCATION:5/35A Barossa Road, GLENORCHY TAS 7010

END:VEVENT

END:VCALENDAR