BEGIN:VCALENDAR

VERSION:2.0

PRODID:-//hacksw/handcal//NONSGML v1.0//EN

BEGIN:VEVENT

UID:385c2dc7bfe776e06e61ec9523a0e4b2

DTSTAMP:20260424T123701Z

DTSTART:20260427T120000

DTEND:20260427T121500

SUMMARY:b436013190854005931e9be2c8b6d555 - 43 Renfrew Cir, Goodwood TAS 7010

LOCATION:43 Renfrew Cir, Goodwood TAS 7010

END:VEVENT

END:VCALENDAR