BEGIN:VCALENDAR

VERSION:2.0

PRODID:-//hacksw/handcal//NONSGML v1.0//EN

BEGIN:VEVENT

UID:d097275f6f32c21ad7ad7d3bb9fa6f70

DTSTAMP:20260423T123411Z

DTSTART:20260428T130000

DTEND:20260428T131500

SUMMARY:b435005f161449709720a23f28ef2654 - 37 Finlay St, Bridgewater TAS 7030

LOCATION:37 Finlay St, Bridgewater TAS 7030

END:VEVENT

END:VCALENDAR