BEGIN:VCALENDAR

VERSION:2.0

PRODID:-//hacksw/handcal//NONSGML v1.0//EN

BEGIN:VEVENT

UID:d43081dfcc52f184b606da400c58c5c4

DTSTAMP:20260424T123132Z

DTSTART:20260429T163000

DTEND:20260429T164500

SUMMARY:b436013190854005931e9be2c8b6d555 - 43 Renfrew Cir, Goodwood TAS 7010

LOCATION:43 Renfrew Cir, Goodwood TAS 7010

END:VEVENT

END:VCALENDAR