BEGIN:VCALENDAR

VERSION:2.0

PRODID:-//hacksw/handcal//NONSGML v1.0//EN

BEGIN:VEVENT

UID:bda2440c505f530beda66979293598c7

DTSTAMP:20260423T123239Z

DTSTART:20260430T163000

DTEND:20260430T164500

SUMMARY:b435005f161449709720a23f28ef2654 - 37 Finlay St, Bridgewater TAS 7030

LOCATION:37 Finlay St, Bridgewater TAS 7030

END:VEVENT

END:VCALENDAR